BEGIN:VCALENDAR
VERSION:2.0
PRODID:-//RIRWA - ECPv6.15.20//NONSGML v1.0//EN
CALSCALE:GREGORIAN
METHOD:PUBLISH
X-ORIGINAL-URL:https://rirwa.org
X-WR-CALDESC:Events for RIRWA
REFRESH-INTERVAL;VALUE=DURATION:PT1H
X-Robots-Tag:noindex
X-PUBLISHED-TTL:PT1H
BEGIN:VTIMEZONE
TZID:UTC
BEGIN:STANDARD
TZOFFSETFROM:+0000
TZOFFSETTO:+0000
TZNAME:UTC
DTSTART:20240101T000000
END:STANDARD
END:VTIMEZONE
BEGIN:VEVENT
DTSTART;TZID=UTC:20251209T090000
DTEND;TZID=UTC:20251209T110000
DTSTAMP:20260425T014633
CREATED:20251030T124921Z
LAST-MODIFIED:20251124T135817Z
UID:3071-1765270800-1765278000@rirwa.org
SUMMARY:2025 Chemical Safety in your Plant
DESCRIPTION:December 9 @ 9:00 am – 11:00 am \nVenue: QDC\, The Annex @ 95 Cripe Street\, North Kingstown\, RI \nTCH(s): 2 (RI DOH) \nCost: Free     Instructor: Janice Markey \nMaltz Sales Company is pleased to offer a comprehensive training session on Chemical Safety in Water & Wastewater Facilities. This course is designed to reinforce essential safety principles and provide practical guidance on handling the chemicals commonly used in plant operations. Whether you’re an operator\, supervisor\, or safety coordinator\, this course reinforces a culture of safety and preparedness across all levels of plant operations. Please ask about hybrid training options. \nCourse Highlights: \n\nFundamental safety principles and regulatory overview\nGeneral chemical safety practices\nPPE selection and usage\, including gloves and eyewear\nCommon chemical interactions and potential hazards\nFocused discussion on chemicals specific to water and wastewater treatment\n\nInstructor(s): \nJanice Markey\, Municipal Sales Manager\, Maltz Sales Company \nJanice has a Massachusetts Grade 6C Wastewater Operator license. She has been in the wastewater industry for more than twenty years. She has extensive experience with pumps\, chemical feed systems\, multiparameter controllers\, regulatory and permitting issues\, as well as system upgrades and installations.
URL:https://rirwa.org/event/2025-chemical-safety-in-your-plant/
LOCATION:95 Cripe Street – North Kingstown\, RI\, United States
CATEGORIES:Public,Training
ORGANIZER;CN="Matt Young":MAILTO:myoung@rirwa.org
END:VEVENT
END:VCALENDAR