BEGIN:VCALENDAR
VERSION:2.0
PRODID:-//RIRWA - ECPv6.15.20//NONSGML v1.0//EN
CALSCALE:GREGORIAN
METHOD:PUBLISH
X-WR-CALNAME:RIRWA
X-ORIGINAL-URL:https://rirwa.org
X-WR-CALDESC:Events for RIRWA
REFRESH-INTERVAL;VALUE=DURATION:PT1H
X-Robots-Tag:noindex
X-PUBLISHED-TTL:PT1H
BEGIN:VTIMEZONE
TZID:UTC
BEGIN:STANDARD
TZOFFSETFROM:+0000
TZOFFSETTO:+0000
TZNAME:UTC
DTSTART:20250101T000000
END:STANDARD
END:VTIMEZONE
BEGIN:VEVENT
DTSTART;TZID=UTC:20260127T080000
DTEND;TZID=UTC:20260127T110000
DTSTAMP:20260425T005249
CREATED:20250821T134626Z
LAST-MODIFIED:20260109T171501Z
UID:2552-1769500800-1769511600@rirwa.org
SUMMARY:Cybersecurity in the Water Sector
DESCRIPTION:January 27 @ 8:00 am – 11:00 am \nVenue: Clear River Electric & Water District\, 253 Pascoag Main Street\, Pascoag\, RI 02830 \nTCH(s): 3 (RI DOH) \nCost: Free     Instructor: Mike Tetreault \nCourse Outline: \nCybersecurity is now recognized as the top threat to U.S. businesses and critical infrastructure\, according to testimony from the Director of National Intelligence\, the FBI\, and the Department of Homeland Security. Drinking water and wastewater systems are increasingly targeted by cyberattacks\, posing serious risks to public health\, operational continuity\, and customer trust. \nTo help utilities strengthen their defenses\, this three-hour training will provide essential guidance on building a cybersecurity risk management program and implementing basic cyber hygiene practices. These steps can help your utility prevent\, detect\, respond to\, and recover from cyber incidents. \n Training Overview \n\nCybersecurity in the Water Sector: Current threats\, vulnerabilities\, and federal guidance\nRansomware Awareness & Prevention: Trends\, tactics\, and mitigation strategies\nCase Studies: Real-world cybersecurity incidents in the water industry\nSCADA Cybersecurity Framework: Best practices for securing industrial control systems\n\n Why It Matters \n\nCyber breaches can compromise water quality and system reliability\nAttacks erode public confidence and expose utilities to legal and financial liabilities\nFederal agencies\, including EPA and CISA\, are urging utilities to take proactive steps\n\nAsk us about in-person\, virtual\, or blended formats to suit your team’s needs. \nInstructor(s): \nMike Tetreault is the Cybersecurity Advisor (CSA) for Rhode Island (Region 1)\, within the Integrated Operations Division\, Cybersecurity & Infrastructure Security Agency (CISA) of the Department of Homeland Security (DHS). CISA established ten regional offices across the country to improve the delivery of the department’s services to critical infrastructure owners and operators and state\, local\, tribal\, and territorial partners. CSAs are the front-facing cyber experts supporting regional operations capabilities. Region 1 includes Maine\, New Hampshire\, Vermont\, Connecticut\, Rhode Island\, and Massachusetts. Mr. Tetreault manages the major cyber engagements in Rhode Island with additional support to region 1\, championing cyber resilience to public and private sector partners through a multitude of engagements\, promoting education and awareness\, and performing risk assessments. \n• ​Attacks erode public confidence and expose utilities to legal and financial liabilities \n• ​Federal agencies\, including EPA and CISA\, are urging utilities to take proactive steps \nAsk us about in-person\, virtual\, or blended formats to suit your team’s needs. \nInstructor(s): \nMike Tetreault is the Cybersecurity Advisor (CSA) for Rhode Island (Region 1)\, within the Integrated Operations Division\, Cybersecurity & Infrastructure Security Agency (CISA) of the Department of Homeland Security (DHS). CISA established ten regional offices across the country to improve the delivery of the department’s services to critical infrastructure owners and operators and state\, local\, tribal\, and territorial partners. CSAs are the front-facing cyber experts supporting regional operations capabilities. Region 1 includes Maine\, New Hampshire\, Vermont\, Connecticut\, Rhode Island\, and Massachusetts. Mr. Tetreault manages the major cyber engagements in Rhode Island with additional support to region 1\, championing cyber resilience to public and private sector partners through a multitude of engagements\, promoting education and awareness\, and performing risk assessments.
URL:https://rirwa.org/event/cybersecurity-in-the-water-sector-3/
LOCATION:253 Pascoag Main St. Pascoag\, RI
CATEGORIES:Public,Training
ORGANIZER;CN="Matt Young":MAILTO:myoung@rirwa.org
END:VEVENT
END:VCALENDAR